BEGIN:VCALENDAR
VERSION:2.0
PRODID:-//Engineering Graduate Studies - ECPv6.15.0.1//NONSGML v1.0//EN
CALSCALE:GREGORIAN
METHOD:PUBLISH
X-ORIGINAL-URL:https://gradstudies.engineering.utoronto.ca
X-WR-CALDESC:Events for Engineering Graduate Studies
REFRESH-INTERVAL;VALUE=DURATION:PT1H
X-Robots-Tag:noindex
X-PUBLISHED-TTL:PT1H
BEGIN:VTIMEZONE
TZID:America/Toronto
BEGIN:DAYLIGHT
TZOFFSETFROM:-0500
TZOFFSETTO:-0400
TZNAME:EDT
DTSTART:20260308T070000
END:DAYLIGHT
BEGIN:STANDARD
TZOFFSETFROM:-0400
TZOFFSETTO:-0500
TZNAME:EST
DTSTART:20261101T060000
END:STANDARD
END:VTIMEZONE
BEGIN:VEVENT
DTSTART;TZID=America/Toronto:20260312T110000
DTEND;TZID=America/Toronto:20260312T120000
DTSTAMP:20260422T154957
CREATED:20260223T154616Z
LAST-MODIFIED:20260223T154616Z
UID:44216-1773313200-1773316800@gradstudies.engineering.utoronto.ca
SUMMARY:ChemE Master of Engineering (MEng) Q&A Session for Applicants with Offers
DESCRIPTION:Have you received an offer to the MEng program in the Department of Chemical Engineering & Applied Chemistry?  Join this online session for an opportunity to ask questions and connect with a graduate studies staff member. \nZoom link
URL:https://gradstudies.engineering.utoronto.ca/events-calendar/cheme-master-of-engineering-meng-qa-session-for-applicants-with-offers/
LOCATION:Zoom
CATEGORIES:MEng Info
END:VEVENT
END:VCALENDAR