BEGIN:VCALENDAR
VERSION:2.0
PRODID:-//Engineering Graduate Studies - ECPv6.15.0.1//NONSGML v1.0//EN
CALSCALE:GREGORIAN
METHOD:PUBLISH
X-WR-CALNAME:Engineering Graduate Studies
X-ORIGINAL-URL:https://gradstudies.engineering.utoronto.ca
X-WR-CALDESC:Events for Engineering Graduate Studies
REFRESH-INTERVAL;VALUE=DURATION:PT1H
X-Robots-Tag:noindex
X-PUBLISHED-TTL:PT1H
BEGIN:VTIMEZONE
TZID:America/Toronto
BEGIN:DAYLIGHT
TZOFFSETFROM:-0500
TZOFFSETTO:-0400
TZNAME:EDT
DTSTART:20260308T070000
END:DAYLIGHT
BEGIN:STANDARD
TZOFFSETFROM:-0400
TZOFFSETTO:-0500
TZNAME:EST
DTSTART:20261101T060000
END:STANDARD
END:VTIMEZONE
BEGIN:VEVENT
DTSTART;TZID=America/Toronto:20260129T090000
DTEND;TZID=America/Toronto:20260129T223000
DTSTAMP:20260420T173722
CREATED:20260106T200436Z
LAST-MODIFIED:20260106T200436Z
UID:44067-1769677200-1769725800@gradstudies.engineering.utoronto.ca
SUMMARY:ECE Info Session: Master of Engineering (MEng) Program
DESCRIPTION:Join us for our ECE MEng Information Session to learn why U of T is an ideal place to pursue a Master’s degree. You will have the opportunity to meet our Associate Chair\, Graduate Studies\, Professor Antonio Liscidini\, as well as our ECE Graduate Office administrative team\, who will be present to answer any questions.  Hear about the hands-on learning opportunities available to you and discover our diverse and vibrant student community. Explore everything U of T has to offer to enrich your academic\, personal\, and professional journey. \nTake the first step toward your future – register via the form
URL:https://gradstudies.engineering.utoronto.ca/events-calendar/ece-info-session-master-of-engineering-meng-program/
LOCATION:Online
CATEGORIES:MEng Info,Online
END:VEVENT
END:VCALENDAR